BEGIN:VCALENDAR
VERSION:2.0
METHOD:PUBLISH
PRODID:-//Accessible Web Design//My Calendar//http://www.joedolson.com//v//EN';
BEGIN:VEVENT
UID:794-678
LOCATION:Ventnor Arts Club 13 High Street  Ventnor Isle of Wight PO38 1NT
SUMMARY:Ventnor Film Society Screening - The Teachers' Lounge
DTSTAMP:20241022T193000
ORGANIZER;CN=admin:MAILTO:stephenizatt@gmail.com
DTSTART:20241022T193000
DTEND:20241022T211000
CATEGORIES:Screening
URL;VALUE=URI:https://www.ventnorartsclub.com/?page_id=130&#038;mc_id=794&#038;vcal=794
DESCRIPTION:Germany, 2023 - Director Çatak A young idealistic teacher, Carla, is new to the school when a series of thefts leads suspicion to fall on a foreign boy.  Carla seeks to clear his name, implicating a fellow staff member, who strongly proclaims her innocence.  The following investigation unleashes accusations and mistrust among outraged parents staff&hellip;
END:VEVENT
END:VCALENDAR