BEGIN:VCALENDAR
VERSION:2.0
METHOD:PUBLISH
PRODID:-//Accessible Web Design//My Calendar//http://www.joedolson.com//v//EN';
BEGIN:VEVENT
UID:649-543
LOCATION:Ventnor Arts Club 13 High Street  Ventnor Isle of Wight PO38 1NT
SUMMARY:Special Screening:  Only Love Matters
DTSTAMP:20240618T193000
ORGANIZER;CN=admin:MAILTO:stephenizatt@gmail.com
DTSTART:20240618T193000
DTEND:20240618T210000
CATEGORIES:Screening
URL;VALUE=URI:https://www.ventnorartsclub.com/?page_id=130&#038;mc_id=649&#038;vcal=649
DESCRIPTION:A groundbreaking and critically acclaimed feature, Only Love Matters, is the first film in cinema history set in Britain to have lead intersex characters.  By British film and TV director Kamran Qureshi, the film had its successful UK premiere at the prestigious BFI Southbank, London and was recently featured by the BBC among other international&hellip;
END:VEVENT
END:VCALENDAR