BEGIN:VCALENDAR
VERSION:2.0
METHOD:PUBLISH
PRODID:-//Accessible Web Design//My Calendar//http://www.joedolson.com//v//EN';
BEGIN:VEVENT
UID:605-508
LOCATION:Ventnor Arts Club 13 High Street  Ventnor Isle of Wight PO38 1NT
SUMMARY:Members Wine Tasting
DTSTAMP:20240418T190000
ORGANIZER;CN=admin:MAILTO:stephenizatt@gmail.com
DTSTART:20240418T190000
DTEND:20240418T210000
CATEGORIES:Activity
URL;VALUE=URI:https://www.ventnorartsclub.com/?page_id=130&#038;mc_id=605&#038;vcal=605
DESCRIPTION:Members free, Non-Members &amp; Guests £10 It's time to review our list again and we invite you to help us select the wines that you will enjoy during your visits to the club. We will be blind-tasting reds, whites and rose options and asking you to vote for your favourites. It will be a series of&hellip;
END:VEVENT
END:VCALENDAR