BEGIN:VCALENDAR
VERSION:2.0
METHOD:PUBLISH
PRODID:-//Accessible Web Design//My Calendar//http://www.joedolson.com//v//EN';
BEGIN:VEVENT
UID:569-482
LOCATION:Ventnor Arts Club 13 High Street  Ventnor Isle of Wight PO38 1NT
SUMMARY:National Theatre Live - Present Laughter
DTSTAMP:20240718T190000
ORGANIZER;CN=admin:MAILTO:stephenizatt@gmail.com
DTSTART:20240718T190000
DTEND:20240718T220000
CATEGORIES:Satellite broadcast &amp; encores
URL;VALUE=URI:https://www.ventnorartsclub.com/?page_id=130&#038;mc_id=569&#038;vcal=569
DESCRIPTION:Present Laughter by Noël Coward The multi award-winning production of Noël Coward’s provocative comedy featuring Andrew Scott (Vanya, Fleabag) returns to the big screen.As he prepares to embark on an overseas tour, star actor Garry Essendine’s colourful life is in danger of spiralling out of control. Engulfed by an escalating identity crisis as his many&hellip;
END:VEVENT
END:VCALENDAR