BEGIN:VCALENDAR
VERSION:2.0
METHOD:PUBLISH
PRODID:-//Accessible Web Design//My Calendar//http://www.joedolson.com//v//EN';
BEGIN:VEVENT
UID:474-398
LOCATION:Ventnor Arts Club 13 High Street  Ventnor Isle of Wight PO38 1NT
SUMMARY:Bridge Afternoon
DTSTAMP:20231220T143000
ORGANIZER;CN=admin:MAILTO:stephenizatt@gmail.com
DTSTART:20231220T143000
DTEND:20231220T163000
CATEGORIES:Activity
URL;VALUE=URI:https://www.ventnorartsclub.com/?page_id=130&#038;mc_id=474&#038;vcal=474
DESCRIPTION:The club is open from 2.30pm for bridge, backgammon or chess. Teaching resumes this week with Christine leading the session.
END:VEVENT
END:VCALENDAR