BEGIN:VCALENDAR
VERSION:2.0
METHOD:PUBLISH
PRODID:-//Accessible Web Design//My Calendar//http://www.joedolson.com//v//EN';
BEGIN:VEVENT
UID:1291-1114
LOCATION:Ventnor Arts Club 13 High Street  Ventnor Isle of Wight PO38 1NT
SUMMARY:Royal Ballet &amp; Opera - Manon
DTSTAMP:20260421
ORGANIZER;CN=admin:MAILTO:stephenizatt@gmail.com
DTSTART:20260421
DTEND:20260422
CATEGORIES:Activity
URL;VALUE=URI:https://www.ventnorartsclub.com/?page_id=130&#038;mc_id=1291&#038;vcal=1291
DESCRIPTION:Royal Ballet &nbsp; Run Time 3 hours 10 minutes 2 Intervals
X-FUNAMBOL-ALLDAY: 1
X-MICROSOFT-CDO-ALLDAYEVENT: TRUE

END:VEVENT
END:VCALENDAR