BEGIN:VCALENDAR
VERSION:2.0
METHOD:PUBLISH
PRODID:-//Accessible Web Design//My Calendar//http://www.joedolson.com//v//EN';
BEGIN:VEVENT
UID:1195-1039
LOCATION:Ventnor Arts Club 13 High Street  Ventnor Isle of Wight PO38 1NT
SUMMARY:Bridge Club
DTSTAMP:20260401T140000
ORGANIZER;CN=admin:MAILTO:stephenizatt@gmail.com
DTSTART:20260401T140000
DTEND:20260401T163000
CATEGORIES:Activity
URL;VALUE=URI:https://www.ventnorartsclub.com/?page_id=130&#038;mc_id=1195&#038;vcal=1195
DESCRIPTION:The regular weekly meeting of Bridge Club organised and presided over by Mo Jones. Players are welcome to join and enjoy the comfortable ambience of the club for bridge and conversation.  Please contact Wendy for more information.
END:VEVENT
END:VCALENDAR