BEGIN:VCALENDAR
VERSION:2.0
METHOD:PUBLISH
PRODID:-//Accessible Web Design//My Calendar//http://www.joedolson.com//v//EN';
BEGIN:VEVENT
UID:1174-1018
LOCATION:Ventnor Arts Club 13 High Street  Ventnor Isle of Wight PO38 1NT
SUMMARY:Ventnor Film Society Screening - Nouvelle Vague
DTSTAMP:20260330T193000
ORGANIZER;CN=admin:MAILTO:stephenizatt@gmail.com
DTSTART:20260330T193000
DTEND:20260330T212000
CATEGORIES:Screening
URL;VALUE=URI:https://www.ventnorartsclub.com/?page_id=130&#038;mc_id=1174&#038;vcal=1174
DESCRIPTION:Nouvelle Vague (France, 2025) Director: Richard Linklater Set in 1959 Paris, this 'love letter' to French cinema reimagines the radical birth of the French New Wave through the production of Jean-Luc Godard's Breathless.  It follows Godard's shift from critic to director, employing rule-breaking, spontaneous techniques to defy cinematic convention.  The comedy drama captures the chaotic&hellip;
END:VEVENT
END:VCALENDAR