BEGIN:VCALENDAR
VERSION:2.0
METHOD:PUBLISH
PRODID:-//Accessible Web Design//My Calendar//http://www.joedolson.com//v//EN';
BEGIN:VEVENT
UID:1027-889
LOCATION:Ventnor Arts Club 13 High Street  Ventnor Isle of Wight PO38 1NT
SUMMARY:Royal Ballet &amp; Opera - Siegfried
DTSTAMP:20260331T171500
ORGANIZER;CN=admin:MAILTO:stephenizatt@gmail.com
DTSTART:20260331T171500
DTEND:20260331T223000
CATEGORIES:Satellite broadcast &amp; encores
URL;VALUE=URI:https://www.ventnorartsclub.com/?page_id=130&#038;mc_id=1027&#038;vcal=1027
DESCRIPTION:Royal Opera Moments of transcendent beauty and heroic triumph sparkle in the third chapter of Wagner’s Ring cycle, brought to life under Barrie Kosky’s inspired eye, following his spectacular Das Rheingold (2023) and Die Walküre (2025). FROM DARKNESS TO DESTINY Raised by a scheming dwarf and unaware of his true family origins, a young man embarks&hellip;
END:VEVENT
END:VCALENDAR